BEGIN:VCALENDAR
VERSION:2.0
PRODID:-//Plone.org//NONSGML plone.app.event//EN
X-WR-TIMEZONE:Brazil/East
BEGIN:VEVENT
SUMMARY:23ª Sessão Plenária de 2023
DTSTART;TZID=Brazil/East;VALUE=DATE-TIME:20230717T190000
DTEND;TZID=Brazil/East;VALUE=DATE-TIME:20230717T203000
DTSTAMP;VALUE=DATE-TIME:20260419T234017Z
UID:6f880b49744941fe9e2b9cc70d2bf200@www.altoaraguaia.mt.leg.br
CREATED;VALUE=DATE-TIME:20230706T172813Z
DESCRIPTION:Você é nosso convidado\, venha e participe presencialmente!
LAST-MODIFIED;VALUE=DATE-TIME:20230706T172818Z
LOCATION:Plenário Alba Berigo
URL:https://www.altoaraguaia.mt.leg.br/institucional/eventos/23a-sessao-pl
 enaria-de-2023/2023-07-17
END:VEVENT
BEGIN:VTIMEZONE
TZID:Brazil/East
X-LIC-LOCATION:Brazil/East
BEGIN:STANDARD
DTSTART;VALUE=DATE-TIME:20230225T230000
TZNAME:BRT
TZOFFSETFROM:-0200
TZOFFSETTO:-0300
END:STANDARD
END:VTIMEZONE
END:VCALENDAR
